BEGIN:VCALENDAR
VERSION:2.0
PRODID:-//Goldgrube//myauktion.com//AT
CALSCALE:GREGORIAN
BEGIN:VEVENT
DTSTART:20260503T100500
DTEND:20260503T100530
LOCATION:Gewerbepark 13, 8562 Mooskirchen
DTSTAMP:20260419T154445
SUMMARY:MyAuktion: Ablauf Artikel Nr. 955553 LR Solvaline N 10x10cm 100Stk Wundkompresse 
URL;VALUE=URI:https://www.myauktion.com/versteigerung7639-position2437772-lr-solvaline-n-10x10cm-100stk-wundkompresse.php
DESCRIPTION:
UID:myauktion-7639-2437772
BEGIN:VALARM
ACTION:DISPLAY
DESCRIPTION:
TRIGGER:-PT10M
END:VALARM
END:VEVENT
END:VCALENDAR