BEGIN:VCALENDAR
VERSION:2.0
PRODID:-//Goldgrube//myauktion.com//AT
CALSCALE:GREGORIAN
BEGIN:VEVENT
DTSTART:20260503T114400
DTEND:20260503T114430
LOCATION:Gewerbepark 13, 8562 Mooskirchen
DTSTAMP:20260419T154442
SUMMARY:MyAuktion: Ablauf Artikel Nr. 956135 Steris Vierkammer Polypenfalle (unsteril) 12Stk
URL;VALUE=URI:https://www.myauktion.com/versteigerung7639-position2437774-steris-vierkammer-polypenfalle-unsteril-12stk.php
DESCRIPTION:MHD 07.01.2028 
UID:myauktion-7639-2437774
BEGIN:VALARM
ACTION:DISPLAY
DESCRIPTION:MHD 07.01.2028 
TRIGGER:-PT10M
END:VALARM
END:VEVENT
END:VCALENDAR