BEGIN:VCALENDAR
VERSION:2.0
PRODID:-//Goldgrube//myauktion.com//AT
CALSCALE:GREGORIAN
BEGIN:VEVENT
DTSTART:20260503T124800
DTEND:20260503T124830
LOCATION:Gewerbepark 13, 8562 Mooskirchen
DTSTAMP:20260419T154444
SUMMARY:MyAuktion: Ablauf Artikel Nr. 956328 Tablett klein
URL;VALUE=URI:https://www.myauktion.com/versteigerung7639-position2437778-tablett-klein.php
DESCRIPTION:238x238x30mm
UID:myauktion-7639-2437778
BEGIN:VALARM
ACTION:DISPLAY
DESCRIPTION:238x238x30mm
TRIGGER:-PT10M
END:VALARM
END:VEVENT
END:VCALENDAR