BEGIN:VCALENDAR
VERSION:2.0
PRODID:-//Goldgrube//myauktion.com//AT
CALSCALE:GREGORIAN
BEGIN:VEVENT
DTSTART:20260503T121600
DTEND:20260503T121630
LOCATION:Gewerbepark 13, 8562 Mooskirchen
DTSTAMP:20260419T195656
SUMMARY:MyAuktion: Ablauf Artikel Nr. 956161 Kraft der Natur Kirschkernkissen ca. 20x20cm 
URL;VALUE=URI:https://www.myauktion.com/versteigerung7639-position2437780-kraft-der-natur-kirschkernkissen-ca-20x20cm.php
DESCRIPTION:
UID:myauktion-7639-2437780
BEGIN:VALARM
ACTION:DISPLAY
DESCRIPTION:
TRIGGER:-PT10M
END:VALARM
END:VEVENT
END:VCALENDAR