BEGIN:VCALENDAR
VERSION:2.0
PRODID:-//Goldgrube//myauktion.com//AT
CALSCALE:GREGORIAN
BEGIN:VEVENT
DTSTART:20260503T121800
DTEND:20260503T121830
LOCATION:Gewerbepark 13, 8562 Mooskirchen
DTSTAMP:20260419T192401
SUMMARY:MyAuktion: Ablauf Artikel Nr. 956162 Peppler Micro Clean Pro XL Wipes 6x80Stk 
URL;VALUE=URI:https://www.myauktion.com/versteigerung7639-position2437781-peppler-micro-clean-pro-xl-wipes-6x80stk.php
DESCRIPTION:
UID:myauktion-7639-2437781
BEGIN:VALARM
ACTION:DISPLAY
DESCRIPTION:
TRIGGER:-PT10M
END:VALARM
END:VEVENT
END:VCALENDAR