BEGIN:VCALENDAR
VERSION:2.0
PRODID:-//Goldgrube//myauktion.com//AT
CALSCALE:GREGORIAN
BEGIN:VEVENT
DTSTART:20260503T132100
DTEND:20260503T132130
LOCATION:Gewerbepark 13, 8562 Mooskirchen
DTSTAMP:20260419T192359
SUMMARY:MyAuktion: Ablauf Artikel Nr. 956386 Berger 85W/100W Solarspoiler für Solarpanel Breite 459mm 
URL;VALUE=URI:https://www.myauktion.com/versteigerung7639-position2437782-berger-85w-100w-solarspoiler-fuer-solarpanel-breite-459mm.php
DESCRIPTION:
UID:myauktion-7639-2437782
BEGIN:VALARM
ACTION:DISPLAY
DESCRIPTION:
TRIGGER:-PT10M
END:VALARM
END:VEVENT
END:VCALENDAR