BEGIN:VCALENDAR
VERSION:2.0
PRODID:-//Goldgrube//myauktion.com//AT
CALSCALE:GREGORIAN
BEGIN:VEVENT
DTSTART:20260503T105200
DTEND:20260503T105230
LOCATION:Gewerbepark 13, 8562 Mooskirchen
DTSTAMP:20260419T220154
SUMMARY:MyAuktion: Ablauf Artikel Nr. 955583 Panzer Glass Camera Lens Protection für iPhone 17 Pro/ 17 Pro Max/ 16 Pro/ 16 Pro Max Hoops Ceramic 2 Nanoceram  
URL;VALUE=URI:https://www.myauktion.com/versteigerung7639-position2437795-panzer-glass-camera-lens-protection-fuer-iphone-17-pro--17-pro-max--16-pro--16-pro-max-hoops-ceramic-2-nanoceram.php
DESCRIPTION:
UID:myauktion-7639-2437795
BEGIN:VALARM
ACTION:DISPLAY
DESCRIPTION:
TRIGGER:-PT10M
END:VALARM
END:VEVENT
END:VCALENDAR