BEGIN:VCALENDAR
VERSION:2.0
PRODID:-//Goldgrube//myauktion.com//AT
CALSCALE:GREGORIAN
BEGIN:VEVENT
DTSTART:20260503T110600
DTEND:20260503T110630
LOCATION:Gewerbepark 13, 8562 Mooskirchen
DTSTAMP:20260419T215133
SUMMARY:MyAuktion: Ablauf Artikel Nr. 955590 Panzer Glass Screen Protection für Apple iPhone 17/16 Pro Clear Ultra-Wide fit 
URL;VALUE=URI:https://www.myauktion.com/versteigerung7639-position2437798-panzer-glass-screen-protection-fuer-apple-iphone-17-16-pro-clear-ultra-wide-fit.php
DESCRIPTION:
UID:myauktion-7639-2437798
BEGIN:VALARM
ACTION:DISPLAY
DESCRIPTION:
TRIGGER:-PT10M
END:VALARM
END:VEVENT
END:VCALENDAR