BEGIN:VCALENDAR
VERSION:2.0
PRODID:-//Goldgrube//myauktion.com//AT
CALSCALE:GREGORIAN
BEGIN:VEVENT
DTSTART:20260503T094100
DTEND:20260503T094130
LOCATION:Gewerbepark 13, 8562 Mooskirchen
DTSTAMP:20260419T142657
SUMMARY:MyAuktion: Ablauf Artikel Nr. 955312 Kora Aktivkohleseife
URL;VALUE=URI:https://www.myauktion.com/versteigerung7639-position2437800-kora-aktivkohleseife.php
DESCRIPTION:Ca 120×80×60mm
UID:myauktion-7639-2437800
BEGIN:VALARM
ACTION:DISPLAY
DESCRIPTION:Ca 120×80×60mm
TRIGGER:-PT10M
END:VALARM
END:VEVENT
END:VCALENDAR