BEGIN:VCALENDAR
VERSION:2.0
PRODID:-//Goldgrube//myauktion.com//AT
CALSCALE:GREGORIAN
BEGIN:VEVENT
DTSTART:20260503T094700
DTEND:20260503T094730
LOCATION:Gewerbepark 13, 8562 Mooskirchen
DTSTAMP:20260419T154446
SUMMARY:MyAuktion: Ablauf Artikel Nr. 955316 Schmuck Box  30Stück
URL;VALUE=URI:https://www.myauktion.com/versteigerung7639-position2437804-schmuck-box-30stueck.php
DESCRIPTION:6,5×6,5cm
UID:myauktion-7639-2437804
BEGIN:VALARM
ACTION:DISPLAY
DESCRIPTION:6,5×6,5cm
TRIGGER:-PT10M
END:VALARM
END:VEVENT
END:VCALENDAR