BEGIN:VCALENDAR
VERSION:2.0
PRODID:-//Goldgrube//myauktion.com//AT
CALSCALE:GREGORIAN
BEGIN:VEVENT
DTSTART:20260502T135700
DTEND:20260502T135730
LOCATION:Gewerbepark 13, 8562 Mooskirchen
DTSTAMP:20260422T020443
SUMMARY:MyAuktion: Ablauf Artikel Nr. 954579 AniOne Pflegetücher für Katzen und Hunde 50 Stück 
URL;VALUE=URI:https://www.myauktion.com/versteigerung7643-position2438972-anione-pflegetuecher-fuer-katzen-und-hunde-50-stueck.php
DESCRIPTION:MHD 05.2028
UID:myauktion-7643-2438972
BEGIN:VALARM
ACTION:DISPLAY
DESCRIPTION:MHD 05.2028
TRIGGER:-PT10M
END:VALARM
END:VEVENT
END:VCALENDAR