BEGIN:VCALENDAR
VERSION:2.0
PRODID:-//Goldgrube//myauktion.com//AT
CALSCALE:GREGORIAN
BEGIN:VEVENT
DTSTART:20260503T110600
DTEND:20260503T110630
LOCATION:Gewerbepark 13, 8562 Mooskirchen
DTSTAMP:20260419T142643
SUMMARY:MyAuktion: Ablauf Artikel Nr. 833031 Naturix24 Brombeerblättertee 1kg
URL;VALUE=URI:https://www.myauktion.com/versteigerung7641-position2439046-naturix24-brombeerblaettertee-1kg.php
DESCRIPTION:MHD 17.02.2027
UID:myauktion-7641-2439046
BEGIN:VALARM
ACTION:DISPLAY
DESCRIPTION:MHD 17.02.2027
TRIGGER:-PT10M
END:VALARM
END:VEVENT
END:VCALENDAR