BEGIN:VCALENDAR
VERSION:2.0
PRODID:-//Goldgrube//myauktion.com//AT
CALSCALE:GREGORIAN
BEGIN:VEVENT
DTSTART:20260503T112300
DTEND:20260503T112330
LOCATION:Gewerbepark 13, 8562 Mooskirchen
DTSTAMP:20260419T142648
SUMMARY:MyAuktion: Ablauf Artikel Nr. 869063 Beba Junior Milchgetränk  6x200ml 
URL;VALUE=URI:https://www.myauktion.com/versteigerung7641-position2439054-beba-junior-milchgetraenk-6x200ml.php
DESCRIPTION:Mhd 02.26
UID:myauktion-7641-2439054
BEGIN:VALARM
ACTION:DISPLAY
DESCRIPTION:Mhd 02.26
TRIGGER:-PT10M
END:VALARM
END:VEVENT
END:VCALENDAR