BEGIN:VCALENDAR
VERSION:2.0
PRODID:-//Goldgrube//myauktion.com//AT
CALSCALE:GREGORIAN
BEGIN:VEVENT
DTSTART:20260503T113200
DTEND:20260503T113230
LOCATION:Gewerbepark 13, 8562 Mooskirchen
DTSTAMP:20260419T142644
SUMMARY:MyAuktion: Ablauf Artikel Nr. 873188 Lumea Fondant 1kg 
URL;VALUE=URI:https://www.myauktion.com/versteigerung7641-position2439058-lumea-fondant-1kg.php
DESCRIPTION:MHD 19.11.2026
UID:myauktion-7641-2439058
BEGIN:VALARM
ACTION:DISPLAY
DESCRIPTION:MHD 19.11.2026
TRIGGER:-PT10M
END:VALARM
END:VEVENT
END:VCALENDAR