BEGIN:VCALENDAR
VERSION:2.0
PRODID:-//Goldgrube//myauktion.com//AT
CALSCALE:GREGORIAN
BEGIN:VEVENT
DTSTART:20260503T123800
DTEND:20260503T123830
LOCATION:Gewerbepark 13, 8562 Mooskirchen
DTSTAMP:20260419T154436
SUMMARY:MyAuktion: Ablauf Artikel Nr. 889679 Tazarin Sidr Blättet/Jujubbabaum Pulver 200g
URL;VALUE=URI:https://www.myauktion.com/versteigerung7641-position2439063-tazarin-sidr-blaettet-jujubbabaum-pulver-200g.php
DESCRIPTION:MHD :30.12.26
UID:myauktion-7641-2439063
BEGIN:VALARM
ACTION:DISPLAY
DESCRIPTION:MHD :30.12.26
TRIGGER:-PT10M
END:VALARM
END:VEVENT
END:VCALENDAR