BEGIN:VCALENDAR
VERSION:2.0
PRODID:-//Goldgrube//myauktion.com//AT
CALSCALE:GREGORIAN
BEGIN:VEVENT
DTSTART:20260503T124400
DTEND:20260503T124430
LOCATION:Gewerbepark 13, 8562 Mooskirchen
DTSTAMP:20260419T142641
SUMMARY:MyAuktion: Ablauf Artikel Nr. 890204 Domori Hot Chocolate Anzahl unersichtlich, Karton ca.26x26x20cm
URL;VALUE=URI:https://www.myauktion.com/versteigerung7641-position2439065-domori-hot-chocolate-anzahl-unersichtlich-karton-ca26x26x20cm.php
DESCRIPTION:MHD 28.02.2027
UID:myauktion-7641-2439065
BEGIN:VALARM
ACTION:DISPLAY
DESCRIPTION:MHD 28.02.2027
TRIGGER:-PT10M
END:VALARM
END:VEVENT
END:VCALENDAR