BEGIN:VCALENDAR
VERSION:2.0
PRODID:-//Goldgrube//myauktion.com//AT
CALSCALE:GREGORIAN
BEGIN:VEVENT
DTSTART:20260503T124000
DTEND:20260503T124030
LOCATION:Gewerbepark 13, 8562 Mooskirchen
DTSTAMP:20260419T154424
SUMMARY:MyAuktion: Ablauf Artikel Nr. 889846 Alete Bewusst Milch Getreide Mahlzeit Keks ab. 10 Monat 12stk  
URL;VALUE=URI:https://www.myauktion.com/versteigerung7641-position2439066-alete-bewusst-milch-getreide-mahlzeit-keks-ab-10-monat-12stk.php
DESCRIPTION:Mhd 07.26
UID:myauktion-7641-2439066
BEGIN:VALARM
ACTION:DISPLAY
DESCRIPTION:Mhd 07.26
TRIGGER:-PT10M
END:VALARM
END:VEVENT
END:VCALENDAR