BEGIN:VCALENDAR
VERSION:2.0
PRODID:-//Goldgrube//myauktion.com//AT
CALSCALE:GREGORIAN
BEGIN:VEVENT
DTSTART:20260503T124100
DTEND:20260503T124130
LOCATION:Gewerbepark 13, 8562 Mooskirchen
DTSTAMP:20260419T151128
SUMMARY:MyAuktion: Ablauf Artikel Nr. 889860 Sunday Natural Beta Glucan aus Hafer 100g 
URL;VALUE=URI:https://www.myauktion.com/versteigerung7641-position2439068-sunday-natural-beta-glucan-aus-hafer-100g.php
DESCRIPTION:Mhd 07.27 
UID:myauktion-7641-2439068
BEGIN:VALARM
ACTION:DISPLAY
DESCRIPTION:Mhd 07.27 
TRIGGER:-PT10M
END:VALARM
END:VEVENT
END:VCALENDAR