BEGIN:VCALENDAR
VERSION:2.0
PRODID:-//Goldgrube//myauktion.com//AT
CALSCALE:GREGORIAN
BEGIN:VEVENT
DTSTART:20260503T124200
DTEND:20260503T124230
LOCATION:Gewerbepark 13, 8562 Mooskirchen
DTSTAMP:20260419T162733
SUMMARY:MyAuktion: Ablauf Artikel Nr. 889864 Sunday Natural D- Ribose Pulver 250g 
URL;VALUE=URI:https://www.myauktion.com/versteigerung7641-position2439069-sunday-natural-d-ribose-pulver-250g.php
DESCRIPTION:Mhd 28.11.26
UID:myauktion-7641-2439069
BEGIN:VALARM
ACTION:DISPLAY
DESCRIPTION:Mhd 28.11.26
TRIGGER:-PT10M
END:VALARM
END:VEVENT
END:VCALENDAR