BEGIN:VCALENDAR
VERSION:2.0
PRODID:-//Goldgrube//myauktion.com//AT
CALSCALE:GREGORIAN
BEGIN:VEVENT
DTSTART:20260503T150200
DTEND:20260503T150230
LOCATION:Gewerbepark 13, 8562 Mooskirchen
DTSTAMP:20260419T162728
SUMMARY:MyAuktion: Ablauf Artikel Nr. 952579 All nutrition Frulove in Jelly Apple & Cinnamon 1kg 
URL;VALUE=URI:https://www.myauktion.com/versteigerung7641-position2439070-all-nutrition-frulove-in-jelly-apple-38-cinnamon-1kg.php
DESCRIPTION:MHD 05.2026 / Ohne Deckel 
UID:myauktion-7641-2439070
BEGIN:VALARM
ACTION:DISPLAY
DESCRIPTION:MHD 05.2026 / Ohne Deckel 
TRIGGER:-PT10M
END:VALARM
END:VEVENT
END:VCALENDAR