BEGIN:VCALENDAR
VERSION:2.0
PRODID:-//Goldgrube//myauktion.com//AT
CALSCALE:GREGORIAN
BEGIN:VEVENT
DTSTART:20260503T150300
DTEND:20260503T150330
LOCATION:Gewerbepark 13, 8562 Mooskirchen
DTSTAMP:20260419T151129
SUMMARY:MyAuktion: Ablauf Artikel Nr. 952591 Orgainic Creatine 500g
URL;VALUE=URI:https://www.myauktion.com/versteigerung7641-position2439071-orgainic-creatine-500g.php
DESCRIPTION:MHD 20.11.2027 
UID:myauktion-7641-2439071
BEGIN:VALARM
ACTION:DISPLAY
DESCRIPTION:MHD 20.11.2027 
TRIGGER:-PT10M
END:VALARM
END:VEVENT
END:VCALENDAR