BEGIN:VCALENDAR
VERSION:2.0
PRODID:-//Goldgrube//myauktion.com//AT
CALSCALE:GREGORIAN
BEGIN:VEVENT
DTSTART:20260503T150700
DTEND:20260503T150730
LOCATION:Gewerbepark 13, 8562 Mooskirchen
DTSTAMP:20260419T151132
SUMMARY:MyAuktion: Ablauf Artikel Nr. 953826 Sport Line Iso-C Whey
URL;VALUE=URI:https://www.myauktion.com/versteigerung7641-position2439074-sport-line-iso-c-whey.php
DESCRIPTION:Mhd:15.10.2026
UID:myauktion-7641-2439074
BEGIN:VALARM
ACTION:DISPLAY
DESCRIPTION:Mhd:15.10.2026
TRIGGER:-PT10M
END:VALARM
END:VEVENT
END:VCALENDAR