BEGIN:VCALENDAR
VERSION:2.0
PRODID:-//Goldgrube//myauktion.com//AT
CALSCALE:GREGORIAN
BEGIN:VEVENT
DTSTART:20260503T150800
DTEND:20260503T150830
LOCATION:Gewerbepark 13, 8562 Mooskirchen
DTSTAMP:20260419T205714
SUMMARY:MyAuktion: Ablauf Artikel Nr. 953829 Thiele Tee
URL;VALUE=URI:https://www.myauktion.com/versteigerung7641-position2439075-thiele-tee.php
DESCRIPTION:Mhd:24.03.2031
UID:myauktion-7641-2439075
BEGIN:VALARM
ACTION:DISPLAY
DESCRIPTION:Mhd:24.03.2031
TRIGGER:-PT10M
END:VALARM
END:VEVENT
END:VCALENDAR