BEGIN:VCALENDAR
VERSION:2.0
PRODID:-//Goldgrube//myauktion.com//AT
CALSCALE:GREGORIAN
BEGIN:VEVENT
DTSTART:20260503T150600
DTEND:20260503T150630
LOCATION:Gewerbepark 13, 8562 Mooskirchen
DTSTAMP:20260419T192348
SUMMARY:MyAuktion: Ablauf Artikel Nr. 953514 Free Fod Low Fodmap Garlic Replacer 72g
URL;VALUE=URI:https://www.myauktion.com/versteigerung7641-position2439076-free-fod-low-fodmap-garlic-replacer-72g.php
DESCRIPTION:MHD 27.05.2027
UID:myauktion-7641-2439076
BEGIN:VALARM
ACTION:DISPLAY
DESCRIPTION:MHD 27.05.2027
TRIGGER:-PT10M
END:VALARM
END:VEVENT
END:VCALENDAR