BEGIN:VCALENDAR
VERSION:2.0
PRODID:-//Goldgrube//myauktion.com//AT
CALSCALE:GREGORIAN
BEGIN:VEVENT
DTSTART:20260503T150900
DTEND:20260503T150930
LOCATION:Gewerbepark 13, 8562 Mooskirchen
DTSTAMP:20260419T192352
SUMMARY:MyAuktion: Ablauf Artikel Nr. 953881 Babywasser
URL;VALUE=URI:https://www.myauktion.com/versteigerung7641-position2439077-babywasser.php
DESCRIPTION:Mhd:7.07.2027
UID:myauktion-7641-2439077
BEGIN:VALARM
ACTION:DISPLAY
DESCRIPTION:Mhd:7.07.2027
TRIGGER:-PT10M
END:VALARM
END:VEVENT
END:VCALENDAR