BEGIN:VCALENDAR
VERSION:2.0
PRODID:-//Goldgrube//myauktion.com//AT
CALSCALE:GREGORIAN
BEGIN:VEVENT
DTSTART:20260503T151000
DTEND:20260503T151030
LOCATION:Gewerbepark 13, 8562 Mooskirchen
DTSTAMP:20260419T205715
SUMMARY:MyAuktion: Ablauf Artikel Nr. 953883 Vita malz 
URL;VALUE=URI:https://www.myauktion.com/versteigerung7641-position2439078-vita-malz.php
DESCRIPTION:Mhd:13.11.2026
UID:myauktion-7641-2439078
BEGIN:VALARM
ACTION:DISPLAY
DESCRIPTION:Mhd:13.11.2026
TRIGGER:-PT10M
END:VALARM
END:VEVENT
END:VCALENDAR