BEGIN:VCALENDAR
VERSION:2.0
PRODID:-//Goldgrube//myauktion.com//AT
CALSCALE:GREGORIAN
BEGIN:VEVENT
DTSTART:20260503T160700
DTEND:20260503T160730
LOCATION:Gewerbepark 13, 8562 Mooskirchen
DTSTAMP:20260419T183840
SUMMARY:MyAuktion: Ablauf Artikel Nr. 963043 NO 1004 Savium Nuccis 250g 
URL;VALUE=URI:https://www.myauktion.com/versteigerung7641-position2439079-no-1004-savium-nuccis-250g.php
DESCRIPTION:MHD: 12/04/26
UID:myauktion-7641-2439079
BEGIN:VALARM
ACTION:DISPLAY
DESCRIPTION:MHD: 12/04/26
TRIGGER:-PT10M
END:VALARM
END:VEVENT
END:VCALENDAR