BEGIN:VCALENDAR
VERSION:2.0
PRODID:-//Goldgrube//myauktion.com//AT
CALSCALE:GREGORIAN
BEGIN:VEVENT
DTSTART:20260503T160100
DTEND:20260503T160130
LOCATION:Gewerbepark 13, 8562 Mooskirchen
DTSTAMP:20260419T154440
SUMMARY:MyAuktion: Ablauf Artikel Nr. 962547 Prozis Cashew Butter smooth 250g 
URL;VALUE=URI:https://www.myauktion.com/versteigerung7641-position2439082-prozis-cashew-butter-smooth-250g.php
DESCRIPTION:MHD 10.2026 
UID:myauktion-7641-2439082
BEGIN:VALARM
ACTION:DISPLAY
DESCRIPTION:MHD 10.2026 
TRIGGER:-PT10M
END:VALARM
END:VEVENT
END:VCALENDAR