BEGIN:VCALENDAR
VERSION:2.0
PRODID:-//Goldgrube//myauktion.com//AT
CALSCALE:GREGORIAN
BEGIN:VEVENT
DTSTART:20260503T160900
DTEND:20260503T160930
LOCATION:Gewerbepark 13, 8562 Mooskirchen
DTSTAMP:20260419T142648
SUMMARY:MyAuktion: Ablauf Artikel Nr. 963057 Creative Deco Texture Paste Smooth 2kg 
URL;VALUE=URI:https://www.myauktion.com/versteigerung7641-position2439083-creative-deco-texture-paste-smooth-2kg.php
DESCRIPTION:MHD: nicht ersichtlich 
UID:myauktion-7641-2439083
BEGIN:VALARM
ACTION:DISPLAY
DESCRIPTION:MHD: nicht ersichtlich 
TRIGGER:-PT10M
END:VALARM
END:VEVENT
END:VCALENDAR