BEGIN:VCALENDAR
VERSION:2.0
PRODID:-//Goldgrube//myauktion.com//AT
CALSCALE:GREGORIAN
BEGIN:VEVENT
DTSTART:20260503T160400
DTEND:20260503T160430
LOCATION:Gewerbepark 13, 8562 Mooskirchen
DTSTAMP:20260419T154431
SUMMARY:MyAuktion: Ablauf Artikel Nr. 962572 Sodastream Sirup 2x440ml 
URL;VALUE=URI:https://www.myauktion.com/versteigerung7641-position2439087-sodastream-sirup-2x440ml.php
DESCRIPTION:MHD 13.10.2026 
UID:myauktion-7641-2439087
BEGIN:VALARM
ACTION:DISPLAY
DESCRIPTION:MHD 13.10.2026 
TRIGGER:-PT10M
END:VALARM
END:VEVENT
END:VCALENDAR