BEGIN:VCALENDAR
VERSION:2.0
PRODID:-//Goldgrube//myauktion.com//AT
CALSCALE:GREGORIAN
BEGIN:VEVENT
DTSTART:20260503T161100
DTEND:20260503T161130
LOCATION:Gewerbepark 13, 8562 Mooskirchen
DTSTAMP:20260419T192340
SUMMARY:MyAuktion: Ablauf Artikel Nr. 963062 Vilgain Organic Oat Drink 4x1000ml
URL;VALUE=URI:https://www.myauktion.com/versteigerung7641-position2439089-vilgain-organic-oat-drink-4x1000ml.php
DESCRIPTION:MHD: 17/06/26, Verpackung beschädigt 
UID:myauktion-7641-2439089
BEGIN:VALARM
ACTION:DISPLAY
DESCRIPTION:MHD: 17/06/26, Verpackung beschädigt 
TRIGGER:-PT10M
END:VALARM
END:VEVENT
END:VCALENDAR