BEGIN:VCALENDAR
VERSION:2.0
PRODID:-//Goldgrube//myauktion.com//AT
CALSCALE:GREGORIAN
BEGIN:VEVENT
DTSTART:20260503T161200
DTEND:20260503T161230
LOCATION:Gewerbepark 13, 8562 Mooskirchen
DTSTAMP:20260419T154430
SUMMARY:MyAuktion: Ablauf Artikel Nr. 963068 Vino Novo 2025 Rotwein 13,5%vol 187ml 
URL;VALUE=URI:https://www.myauktion.com/versteigerung7641-position2439090-vino-novo-2025-rotwein-135vol-187ml.php
DESCRIPTION:
UID:myauktion-7641-2439090
BEGIN:VALARM
ACTION:DISPLAY
DESCRIPTION:
TRIGGER:-PT10M
END:VALARM
END:VEVENT
END:VCALENDAR