BEGIN:VCALENDAR
VERSION:2.0
PRODID:-//Goldgrube//myauktion.com//AT
CALSCALE:GREGORIAN
BEGIN:VEVENT
DTSTART:20260503T160500
DTEND:20260503T160530
LOCATION:Gewerbepark 13, 8562 Mooskirchen
DTSTAMP:20260419T192341
SUMMARY:MyAuktion: Ablauf Artikel Nr. 962601 Carli Pomodori Essiccati 280g
URL;VALUE=URI:https://www.myauktion.com/versteigerung7641-position2439091-carli-pomodori-essiccati-280g.php
DESCRIPTION:MHD 04.2027 
UID:myauktion-7641-2439091
BEGIN:VALARM
ACTION:DISPLAY
DESCRIPTION:MHD 04.2027 
TRIGGER:-PT10M
END:VALARM
END:VEVENT
END:VCALENDAR