BEGIN:VCALENDAR
VERSION:2.0
PRODID:-//Goldgrube//myauktion.com//AT
CALSCALE:GREGORIAN
BEGIN:VEVENT
DTSTART:20260503T130000
DTEND:20260503T130030
LOCATION:Gewerbepark 13, 8562 Mooskirchen
DTSTAMP:20260419T192353
SUMMARY:MyAuktion: Ablauf Artikel Nr. 896570 Nobusan  Skindream Absolute Teint Regeneration Cure 450ml 
URL;VALUE=URI:https://www.myauktion.com/versteigerung7641-position2439102-nobusan-skindream-absolute-teint-regeneration-cure-450ml.php
DESCRIPTION:MHD :06.06.2026
UID:myauktion-7641-2439102
BEGIN:VALARM
ACTION:DISPLAY
DESCRIPTION:MHD :06.06.2026
TRIGGER:-PT10M
END:VALARM
END:VEVENT
END:VCALENDAR