BEGIN:VCALENDAR
VERSION:2.0
PRODID:-//Goldgrube//myauktion.com//AT
CALSCALE:GREGORIAN
BEGIN:VEVENT
DTSTART:20260503T131400
DTEND:20260503T131430
LOCATION:Gewerbepark 13, 8562 Mooskirchen
DTSTAMP:20260419T192342
SUMMARY:MyAuktion: Ablauf Artikel Nr. 897403 Mnstry Gel40 Lemon 88x60mln
URL;VALUE=URI:https://www.myauktion.com/versteigerung7641-position2439104-mnstry-gel40-lemon-88x60mln.php
DESCRIPTION:MHD 15.08.2026 
UID:myauktion-7641-2439104
BEGIN:VALARM
ACTION:DISPLAY
DESCRIPTION:MHD 15.08.2026 
TRIGGER:-PT10M
END:VALARM
END:VEVENT
END:VCALENDAR