BEGIN:VCALENDAR
VERSION:2.0
PRODID:-//Goldgrube//myauktion.com//AT
CALSCALE:GREGORIAN
BEGIN:VEVENT
DTSTART:20260503T130200
DTEND:20260503T130230
LOCATION:Gewerbepark 13, 8562 Mooskirchen
DTSTAMP:20260419T154424
SUMMARY:MyAuktion: Ablauf Artikel Nr. 896572 MNSTRY Gel 40 Lemon 88x60ml
URL;VALUE=URI:https://www.myauktion.com/versteigerung7641-position2439105-mnstry-gel-40-lemon-88x60ml.php
DESCRIPTION:MHD :15.08.26
UID:myauktion-7641-2439105
BEGIN:VALARM
ACTION:DISPLAY
DESCRIPTION:MHD :15.08.26
TRIGGER:-PT10M
END:VALARM
END:VEVENT
END:VCALENDAR