BEGIN:VCALENDAR
VERSION:2.0
PRODID:-//Goldgrube//myauktion.com//AT
CALSCALE:GREGORIAN
BEGIN:VEVENT
DTSTART:20260503T131500
DTEND:20260503T131530
LOCATION:Gewerbepark 13, 8562 Mooskirchen
DTSTAMP:20260419T145057
SUMMARY:MyAuktion: Ablauf Artikel Nr. 897404 Mnstry Sports Gel40 Mango 60x60ml
URL;VALUE=URI:https://www.myauktion.com/versteigerung7641-position2439106-mnstry-sports-gel40-mango-60x60ml.php
DESCRIPTION:MHD 09.06.2026 
UID:myauktion-7641-2439106
BEGIN:VALARM
ACTION:DISPLAY
DESCRIPTION:MHD 09.06.2026 
TRIGGER:-PT10M
END:VALARM
END:VEVENT
END:VCALENDAR