BEGIN:VCALENDAR
VERSION:2.0
PRODID:-//Goldgrube//myauktion.com//AT
CALSCALE:GREGORIAN
BEGIN:VEVENT
DTSTART:20260503T131600
DTEND:20260503T131630
LOCATION:Gewerbepark 13, 8562 Mooskirchen
DTSTAMP:20260419T162729
SUMMARY:MyAuktion: Ablauf Artikel Nr. 897405 Knabe Malz alkoholfrei 48x0,5L
URL;VALUE=URI:https://www.myauktion.com/versteigerung7641-position2439107-knabe-malz-alkoholfrei-48x05l.php
DESCRIPTION:MHD 23.04.2026 
UID:myauktion-7641-2439107
BEGIN:VALARM
ACTION:DISPLAY
DESCRIPTION:MHD 23.04.2026 
TRIGGER:-PT10M
END:VALARM
END:VEVENT
END:VCALENDAR