BEGIN:VCALENDAR
VERSION:2.0
PRODID:-//Goldgrube//myauktion.com//AT
CALSCALE:GREGORIAN
BEGIN:VEVENT
DTSTART:20260503T130300
DTEND:20260503T130330
LOCATION:Gewerbepark 13, 8562 Mooskirchen
DTSTAMP:20260419T162728
SUMMARY:MyAuktion: Ablauf Artikel Nr. 896590 Naturally Vitamin D3+K2 180Stk
URL;VALUE=URI:https://www.myauktion.com/versteigerung7641-position2439108-naturally-vitamin-d3-k2-180stk.php
DESCRIPTION:MHD:30.06.27
UID:myauktion-7641-2439108
BEGIN:VALARM
ACTION:DISPLAY
DESCRIPTION:MHD:30.06.27
TRIGGER:-PT10M
END:VALARM
END:VEVENT
END:VCALENDAR