BEGIN:VCALENDAR
VERSION:2.0
PRODID:-//Goldgrube//myauktion.com//AT
CALSCALE:GREGORIAN
BEGIN:VEVENT
DTSTART:20260503T125700
DTEND:20260503T125730
LOCATION:Gewerbepark 13, 8562 Mooskirchen
DTSTAMP:20260419T154429
SUMMARY:MyAuktion: Ablauf Artikel Nr. 891891 Gewürz Berg Tybolin Pulver 25Kg
URL;VALUE=URI:https://www.myauktion.com/versteigerung7641-position2439119-gewuerz-berg-tybolin-pulver-25kg.php
DESCRIPTION:Mhd 07/2027
UID:myauktion-7641-2439119
BEGIN:VALARM
ACTION:DISPLAY
DESCRIPTION:Mhd 07/2027
TRIGGER:-PT10M
END:VALARM
END:VEVENT
END:VCALENDAR