BEGIN:VCALENDAR
VERSION:2.0
PRODID:-//Goldgrube//myauktion.com//AT
CALSCALE:GREGORIAN
BEGIN:VEVENT
DTSTART:20260503T125400
DTEND:20260503T125430
LOCATION:Gewerbepark 13, 8562 Mooskirchen
DTSTAMP:20260419T154424
SUMMARY:MyAuktion: Ablauf Artikel Nr. 891582 Cuure your Personalized health Experience 
URL;VALUE=URI:https://www.myauktion.com/versteigerung7641-position2439120-cuure-your-personalized-health-experience.php
DESCRIPTION:MHD 05.2026 
UID:myauktion-7641-2439120
BEGIN:VALARM
ACTION:DISPLAY
DESCRIPTION:MHD 05.2026 
TRIGGER:-PT10M
END:VALARM
END:VEVENT
END:VCALENDAR