BEGIN:VCALENDAR
VERSION:2.0
PRODID:-//Goldgrube//myauktion.com//AT
CALSCALE:GREGORIAN
BEGIN:VEVENT
DTSTART:20260503T124800
DTEND:20260503T124830
LOCATION:Gewerbepark 13, 8562 Mooskirchen
DTSTAMP:20260419T162732
SUMMARY:MyAuktion: Ablauf Artikel Nr. 891390 Fertility Naturals Schwangerschaft + 180g
URL;VALUE=URI:https://www.myauktion.com/versteigerung7641-position2439126-fertility-naturals-schwangerschaft-180g.php
DESCRIPTION:MHD :12.27
UID:myauktion-7641-2439126
BEGIN:VALARM
ACTION:DISPLAY
DESCRIPTION:MHD :12.27
TRIGGER:-PT10M
END:VALARM
END:VEVENT
END:VCALENDAR