BEGIN:VCALENDAR
VERSION:2.0
PRODID:-//Goldgrube//myauktion.com//AT
CALSCALE:GREGORIAN
BEGIN:VEVENT
DTSTART:20260503T140300
DTEND:20260503T140330
LOCATION:Gewerbepark 13, 8562 Mooskirchen
DTSTAMP:20260419T192354
SUMMARY:MyAuktion: Ablauf Artikel Nr. 950085 Tropi Coffee Mystic Blueberry 250g
URL;VALUE=URI:https://www.myauktion.com/versteigerung7641-position2439129-tropi-coffee-mystic-blueberry-250g.php
DESCRIPTION:MHD :11.09.26
UID:myauktion-7641-2439129
BEGIN:VALARM
ACTION:DISPLAY
DESCRIPTION:MHD :11.09.26
TRIGGER:-PT10M
END:VALARM
END:VEVENT
END:VCALENDAR