BEGIN:VCALENDAR
VERSION:2.0
PRODID:-//Goldgrube//myauktion.com//AT
CALSCALE:GREGORIAN
BEGIN:VEVENT
DTSTART:20260503T144000
DTEND:20260503T144030
LOCATION:Gewerbepark 13, 8562 Mooskirchen
DTSTAMP:20260419T151131
SUMMARY:MyAuktion: Ablauf Artikel Nr. 950087 Tropi Coffee Sunrise Orange 250g
URL;VALUE=URI:https://www.myauktion.com/versteigerung7641-position2439161-tropi-coffee-sunrise-orange-250g.php
DESCRIPTION:MHD :11.09.26
UID:myauktion-7641-2439161
BEGIN:VALARM
ACTION:DISPLAY
DESCRIPTION:MHD :11.09.26
TRIGGER:-PT10M
END:VALARM
END:VEVENT
END:VCALENDAR