BEGIN:VCALENDAR
VERSION:2.0
PRODID:-//Goldgrube//myauktion.com//AT
CALSCALE:GREGORIAN
BEGIN:VEVENT
DTSTART:20260503T151300
DTEND:20260503T151330
LOCATION:Gewerbepark 13, 8562 Mooskirchen
DTSTAMP:20260419T192343
SUMMARY:MyAuktion: Ablauf Artikel Nr. 960347 Kanne Brottrunk je 0.75L
URL;VALUE=URI:https://www.myauktion.com/versteigerung7641-position2439185-kanne-brottrunk-je-075l.php
DESCRIPTION:MHD 05.05.2028 
UID:myauktion-7641-2439185
BEGIN:VALARM
ACTION:DISPLAY
DESCRIPTION:MHD 05.05.2028 
TRIGGER:-PT10M
END:VALARM
END:VEVENT
END:VCALENDAR