BEGIN:VCALENDAR
VERSION:2.0
PRODID:-//Goldgrube//myauktion.com//AT
CALSCALE:GREGORIAN
BEGIN:VEVENT
DTSTART:20260503T151400
DTEND:20260503T151430
LOCATION:Gewerbepark 13, 8562 Mooskirchen
DTSTAMP:20260419T151129
SUMMARY:MyAuktion: Ablauf Artikel Nr. 960353 Hydraid Hydration Helper Refreshing Electrolyte Drink mix 25Sticks orange
URL;VALUE=URI:https://www.myauktion.com/versteigerung7641-position2439186-hydraid-hydration-helper-refreshing-electrolyte-drink-mix-25sticks-orange.php
DESCRIPTION:MHD 28.04.2027 
UID:myauktion-7641-2439186
BEGIN:VALARM
ACTION:DISPLAY
DESCRIPTION:MHD 28.04.2027 
TRIGGER:-PT10M
END:VALARM
END:VEVENT
END:VCALENDAR