BEGIN:VCALENDAR
VERSION:2.0
PRODID:-//Goldgrube//myauktion.com//AT
CALSCALE:GREGORIAN
BEGIN:VEVENT
DTSTART:20260503T151100
DTEND:20260503T151130
LOCATION:Gewerbepark 13, 8562 Mooskirchen
DTSTAMP:20260419T151129
SUMMARY:MyAuktion: Ablauf Artikel Nr. 954514 Dragon Rice Protein Organic Vegan 200g
URL;VALUE=URI:https://www.myauktion.com/versteigerung7641-position2439187-dragon-rice-protein-organic-vegan-200g.php
DESCRIPTION:MHD 10.2026
UID:myauktion-7641-2439187
BEGIN:VALARM
ACTION:DISPLAY
DESCRIPTION:MHD 10.2026
TRIGGER:-PT10M
END:VALARM
END:VEVENT
END:VCALENDAR