BEGIN:VCALENDAR
VERSION:2.0
PRODID:-//Goldgrube//myauktion.com//AT
CALSCALE:GREGORIAN
BEGIN:VEVENT
DTSTART:20260503T151500
DTEND:20260503T151530
LOCATION:Gewerbepark 13, 8562 Mooskirchen
DTSTAMP:20260419T151128
SUMMARY:MyAuktion: Ablauf Artikel Nr. 960374 Vilgain whey protein 4x30g 
URL;VALUE=URI:https://www.myauktion.com/versteigerung7641-position2439188-vilgain-whey-protein-4x30g.php
DESCRIPTION:MHD 28.08.2026 
UID:myauktion-7641-2439188
BEGIN:VALARM
ACTION:DISPLAY
DESCRIPTION:MHD 28.08.2026 
TRIGGER:-PT10M
END:VALARM
END:VEVENT
END:VCALENDAR