BEGIN:VCALENDAR
VERSION:2.0
PRODID:-//Goldgrube//myauktion.com//AT
CALSCALE:GREGORIAN
BEGIN:VEVENT
DTSTART:20260503T152500
DTEND:20260503T152530
LOCATION:Gewerbepark 13, 8562 Mooskirchen
DTSTAMP:20260419T192349
SUMMARY:MyAuktion: Ablauf Artikel Nr. 960524 Delikatessa Würzmischung mit Gemüse je 500g
URL;VALUE=URI:https://www.myauktion.com/versteigerung7641-position2439196-delikatessa-wuerzmischung-mit-gemuese-je-500g.php
DESCRIPTION:MHD 05.09.2027 
UID:myauktion-7641-2439196
BEGIN:VALARM
ACTION:DISPLAY
DESCRIPTION:MHD 05.09.2027 
TRIGGER:-PT10M
END:VALARM
END:VEVENT
END:VCALENDAR