BEGIN:VCALENDAR
VERSION:2.0
PRODID:-//Goldgrube//myauktion.com//AT
CALSCALE:GREGORIAN
BEGIN:VEVENT
DTSTART:20260503T150000
DTEND:20260503T150030
LOCATION:Gewerbepark 13, 8562 Mooskirchen
DTSTAMP:20260419T192349
SUMMARY:MyAuktion: Ablauf Artikel Nr. 950623 KoRo Hafer-drinkpulver 1kg 
URL;VALUE=URI:https://www.myauktion.com/versteigerung7641-position2439199-koro-hafer-drinkpulver-1kg.php
DESCRIPTION:Mhd 15.05.27
UID:myauktion-7641-2439199
BEGIN:VALARM
ACTION:DISPLAY
DESCRIPTION:Mhd 15.05.27
TRIGGER:-PT10M
END:VALARM
END:VEVENT
END:VCALENDAR